BEGIN:VCALENDAR
VERSION:2.0
PRODID:-//eventon.com NONSGML v1.0//EN
CALSCALE:GREGORIAN
METHOD:PUBLISH
BEGIN:VEVENT
UID:69ecabaa7e5ad
DTSTAMP:20260425T115522Z
DTSTART:20190526T090000Z
DTEND:20190526T150000Z
LOCATION:TAFE QLD Southbank Campus 66 Ernest Street\,  South Brisbane\,  QLD\,  4101
SUMMARY:How To: Leverage Social Media to Raise Your Profile
DESCRIPTION:In this workshop\,  award-winning content marketing strategist\
 ,  presenter and author Caroline McCullough shares how to reach the right p
 eople\,  in the right way and at the right time on social media. Caroline t
 akes you through how to build a profile of your ideal customer and understa
 nd what they interact with[..]\nhttps://www.flyingarts.org.au/events/how-to
 -leverage-social-media-to-raise-your-profile/
URL:https://www.flyingarts.org.au/events/how-to-leverage-social-media-to-raise-your-profile/
END:VEVENT
END:VCALENDAR