BEGIN:VCALENDAR
VERSION:2.0
PRODID:-//eventon.com NONSGML v1.0//EN
CALSCALE:GREGORIAN
METHOD:PUBLISH
BEGIN:VEVENT
UID:69e8ad99a3ff2
DTSTAMP:20260422T111433Z
DTSTART:20190222
DTEND:20190223
LOCATION:
SUMMARY:National Equine Art Prize: Mansfield District Racing Club - Mansfield\,  VIC
DESCRIPTION:Presented by the Mansfield District Racing Club (MDRC)\,  The N
 ational Equine Art Prize 2019\,  commemorates over 160 years of country rac
 ing with a celebration of ‘The High Country Horse’. The High Country re
 gion is synonymous with horses of various character\,  including: Brumbies\
 ,  Mountain Cattlemen and their horses\,  The Rodeo\,  Draught[..]\nhttps:/
 /www.flyingarts.org.au/events/national-equine-art-prize-mansfield-district-
 racing-club-mansfield-vic/
URL:https://www.flyingarts.org.au/events/national-equine-art-prize-mansfield-district-racing-club-mansfield-vic/
END:VEVENT
END:VCALENDAR