BEGIN:VCALENDAR
VERSION:2.0
PRODID:-//eventon.com NONSGML v1.0//EN
CALSCALE:GREGORIAN
METHOD:PUBLISH
BEGIN:VEVENT
UID:69e7552b422c6
DTSTAMP:20260421T104459Z
DTSTART:20190124
DTEND:20190125
LOCATION:
SUMMARY:Glover Prize: John Glover Society - Evandale\,  TAS
DESCRIPTION:Celebrating the legacy of John Glover\,  The John Glover Art Pr
 ize (Glover Prize) has become one of Australia&#8217;s most significant awa
 rds for landscape painting\,  open to artists from anywhere in the world. 
 LEARN MORE\nhttps://www.flyingarts.org.au/events/glover-prize-john-glover-s
 ociety-evandale-tas/
URL:https://www.flyingarts.org.au/events/glover-prize-john-glover-society-evandale-tas/
END:VEVENT
END:VCALENDAR