BEGIN:VCALENDAR
VERSION:2.0
PRODID:-//eventon.com NONSGML v1.0//EN
CALSCALE:GREGORIAN
METHOD:PUBLISH
BEGIN:VEVENT
UID:69e740a32d94e
DTSTAMP:20260421T091723Z
DTSTART:20190117
DTEND:20190118
LOCATION:Warwick Art Gallery 49 Albion Street
SUMMARY:ICONIC QUEENSLAND - Warwick
DESCRIPTION:Queensland is rich with iconic structures\,  people\,  location
 s\,  events and lifestyles that shape the State’s identity. Regional Quee
 nsland artists present the unique and iconic elements within their own regi
 ons in works that reflect our diverse Queensland communities. This exhibiti
 on is an outcome of the 2017 Queensland Regional Art Awards.\nhttps://www.f
 lyingarts.org.au/events/iconic-queensland-warwick/
URL:https://www.flyingarts.org.au/events/iconic-queensland-warwick/
END:VEVENT
END:VCALENDAR